BEGIN:VCALENDAR
VERSION:2.0
PRODID:-//eventon.com NONSGML v1.0//EN
CALSCALE:GREGORIAN
METHOD:PUBLISH
BEGIN:VEVENT
UID:69ec9dc4972fb
DTSTAMP:20260425T105604Z
DTSTART:20260505T140000Z
DTEND:20260505T170000Z
LOCATION:Nathan Deal Judicial Center 330 Capitol Avenue\,  S.E.\,  6th Floor
SUMMARY:Oral Argument - May 05\,  2026
DESCRIPTION:Tuesday\,  May 05\,  2026 10:00 AM Admission Ceremony S25G1354 
 Warner v. Espitia et al. S26A0769 Lowe v. The State\nhttps://www.gasupreme.
 us/events/oral-argument-may-05-2026/
URL:https://www.gasupreme.us/events/oral-argument-may-05-2026/
END:VEVENT
END:VCALENDAR