BEGIN:VCALENDAR
VERSION:2.0
PRODID:-//eventon.com NONSGML v1.0//EN
CALSCALE:GREGORIAN
METHOD:PUBLISH
BEGIN:VEVENT
UID:69e89de642321
DTSTAMP:20260422T100734Z
DTSTART:20241022T140000Z
DTEND:20241022T180000Z
LOCATION:Nathan Deal Judicial Center 330 Capitol Avenue\,  S.E.\,  6th Floor
SUMMARY:Oral Argument - October 22\,  2024
DESCRIPTION:IN-PERSON ORAL ARGUMENT GUIDELINES (REVISED) Tuesday\,  October
  22\,  2024 10:00 AM Admission Ceremony S23G1029 Wasserman v. Franklin Coun
 ty S24A0887 Dias v. Boone\nhttps://www.gasupreme.us/events/oral-argument-oc
 tober-22-2024/
URL:https://www.gasupreme.us/events/oral-argument-october-22-2024/
END:VEVENT
END:VCALENDAR